BEGIN:VCALENDAR
VERSION:2.0
PRODID:-// - ECPv6.15.20//NONSGML v1.0//EN
CALSCALE:GREGORIAN
METHOD:PUBLISH
X-ORIGINAL-URL:https://theoldstonefort.org
X-WR-CALDESC:Events for 
REFRESH-INTERVAL;VALUE=DURATION:PT1H
X-Robots-Tag:noindex
X-PUBLISHED-TTL:PT1H
BEGIN:VTIMEZONE
TZID:America/New_York
BEGIN:DAYLIGHT
TZOFFSETFROM:-0500
TZOFFSETTO:-0400
TZNAME:EDT
DTSTART:20230312T070000
END:DAYLIGHT
BEGIN:STANDARD
TZOFFSETFROM:-0400
TZOFFSETTO:-0500
TZNAME:EST
DTSTART:20231105T060000
END:STANDARD
BEGIN:DAYLIGHT
TZOFFSETFROM:-0500
TZOFFSETTO:-0400
TZNAME:EDT
DTSTART:20240310T070000
END:DAYLIGHT
BEGIN:STANDARD
TZOFFSETFROM:-0400
TZOFFSETTO:-0500
TZNAME:EST
DTSTART:20241103T060000
END:STANDARD
BEGIN:DAYLIGHT
TZOFFSETFROM:-0500
TZOFFSETTO:-0400
TZNAME:EDT
DTSTART:20250309T070000
END:DAYLIGHT
BEGIN:STANDARD
TZOFFSETFROM:-0400
TZOFFSETTO:-0500
TZNAME:EST
DTSTART:20251102T060000
END:STANDARD
END:VTIMEZONE
BEGIN:VEVENT
DTSTART;TZID=America/New_York:20240928T100000
DTEND;TZID=America/New_York:20240928T160000
DTSTAMP:20260423T060314
CREATED:20231129T170656Z
LAST-MODIFIED:20240904T161435Z
UID:7863-1727517600-1727539200@theoldstonefort.org
SUMMARY:Schoharie County Fall Festival
DESCRIPTION:Save the date for our 2nd Annual Schoharie County Fall Festival!
URL:https://theoldstonefort.org/calendar/schoharie-county-harvest-fair-2/
LOCATION:The Old Stone Fort\, 145 Fort Road\, Schoharie\, NY\, 12157\, United States
CATEGORIES:Events
ATTACH;FMTTYPE=image/png:https://theoldstonefort.org/wp-content/uploads/2024/09/2024-Fall-Fest-Poster-Facebook-Post.png
END:VEVENT
END:VCALENDAR